BEGIN:VCALENDAR
VERSION:2.0
PRODID:-//Festival Echo des Mots - ECPv6.15.20//NONSGML v1.0//EN
CALSCALE:GREGORIAN
METHOD:PUBLISH
X-WR-CALNAME:Festival Echo des Mots
X-ORIGINAL-URL:https://festivalechodesmots.fr
X-WR-CALDESC:Évènements pour Festival Echo des Mots
REFRESH-INTERVAL;VALUE=DURATION:PT1H
X-Robots-Tag:noindex
X-PUBLISHED-TTL:PT1H
BEGIN:VTIMEZONE
TZID:Europe/Paris
BEGIN:DAYLIGHT
TZOFFSETFROM:+0100
TZOFFSETTO:+0200
TZNAME:CEST
DTSTART:20250330T010000
END:DAYLIGHT
BEGIN:STANDARD
TZOFFSETFROM:+0200
TZOFFSETTO:+0100
TZNAME:CET
DTSTART:20251026T010000
END:STANDARD
BEGIN:DAYLIGHT
TZOFFSETFROM:+0100
TZOFFSETTO:+0200
TZNAME:CEST
DTSTART:20260329T010000
END:DAYLIGHT
BEGIN:STANDARD
TZOFFSETFROM:+0200
TZOFFSETTO:+0100
TZNAME:CET
DTSTART:20261025T010000
END:STANDARD
BEGIN:DAYLIGHT
TZOFFSETFROM:+0100
TZOFFSETTO:+0200
TZNAME:CEST
DTSTART:20270328T010000
END:DAYLIGHT
BEGIN:STANDARD
TZOFFSETFROM:+0200
TZOFFSETTO:+0100
TZNAME:CET
DTSTART:20271031T010000
END:STANDARD
END:VTIMEZONE
BEGIN:VEVENT
DTSTART;TZID=Europe/Paris:20260811T100000
DTEND;TZID=Europe/Paris:20260813T180000
DTSTAMP:20260421T180937
CREATED:20250707T142736Z
LAST-MODIFIED:20260401T100423Z
UID:1545-1786442400-1786644000@festivalechodesmots.fr
SUMMARY:O.F.N.I.
DESCRIPTION:TERRE D’ÉDEN \n\n\n\nDès 4 ans accompagné d’un adulte \n\n\n\nFabriquez des Objets Flottants Non Identifiés au gré de votre imagination à l’aide des éléments naturels mis à votre disposition. Écorces de mélèze et de sapin\, saule\, bois flotté… deviendront des voiliers ou des bateaux de course. À vous de jouer et bon vent !
URL:https://festivalechodesmots.fr/index.php/event/1545/
LOCATION:Espace Atelier\, Base de loisirs du Châtelard\, Saint-Jean-Saint-Nicolas\, HAUTES-ALPES\, 05260\, France
CATEGORIES:Ateliers
ATTACH;FMTTYPE=image/jpeg:https://festivalechodesmots.fr/wp-content/uploads/2025/06/14-OFNI-scaled.jpg
END:VEVENT
END:VCALENDAR