BEGIN:VCALENDAR
VERSION:2.0
PRODID:-//Festival Echo des Mots - ECPv6.15.20//NONSGML v1.0//EN
CALSCALE:GREGORIAN
METHOD:PUBLISH
X-WR-CALNAME:Festival Echo des Mots
X-ORIGINAL-URL:https://festivalechodesmots.fr
X-WR-CALDESC:Évènements pour Festival Echo des Mots
REFRESH-INTERVAL;VALUE=DURATION:PT1H
X-Robots-Tag:noindex
X-PUBLISHED-TTL:PT1H
BEGIN:VTIMEZONE
TZID:Europe/Paris
BEGIN:DAYLIGHT
TZOFFSETFROM:+0100
TZOFFSETTO:+0200
TZNAME:CEST
DTSTART:20250330T010000
END:DAYLIGHT
BEGIN:STANDARD
TZOFFSETFROM:+0200
TZOFFSETTO:+0100
TZNAME:CET
DTSTART:20251026T010000
END:STANDARD
BEGIN:DAYLIGHT
TZOFFSETFROM:+0100
TZOFFSETTO:+0200
TZNAME:CEST
DTSTART:20260329T010000
END:DAYLIGHT
BEGIN:STANDARD
TZOFFSETFROM:+0200
TZOFFSETTO:+0100
TZNAME:CET
DTSTART:20261025T010000
END:STANDARD
BEGIN:DAYLIGHT
TZOFFSETFROM:+0100
TZOFFSETTO:+0200
TZNAME:CEST
DTSTART:20270328T010000
END:DAYLIGHT
BEGIN:STANDARD
TZOFFSETFROM:+0200
TZOFFSETTO:+0100
TZNAME:CET
DTSTART:20271031T010000
END:STANDARD
END:VTIMEZONE
BEGIN:VEVENT
DTSTART;TZID=Europe/Paris:20260810T190000
DTEND;TZID=Europe/Paris:20260810T203000
DTSTAMP:20260421T193733
CREATED:20260401T092421Z
LAST-MODIFIED:20260401T100443Z
UID:2039-1786388400-1786393800@festivalechodesmots.fr
SUMMARY:Spectacle d'ouverture
DESCRIPTION:
URL:https://festivalechodesmots.fr/index.php/event/spectacle-douverture/
LOCATION:Saint-Bonnet-en-Champsaur\, place du tertre\, Saint-Bonnet-en-Champsaur\, 05500\, France
CATEGORIES:Spectacles
END:VEVENT
END:VCALENDAR